Workbook
Name ChartYear: YEAR('Chart data'!$B$4)
Name Product_A_Name: [1]Summary!$C$3
Name Product_B_Name: [1]Summary!$D$3

Sheet Unterricht
A1: Anleitung dieses Arbeitsbuchs
A2: Leitfaden für Bildschirmleser
A3: In diesem Arbeitsbuch gibt es vier Arbeitsblätter. Meilensteine Fahrplan Über uns Diagrammdaten (versteckt) Die Anweisungen für jedes Arbeitsblatt befinden sich in der A-Spalte, beginnend in Zelle A1 jedes Arbeitsblatts. Sie sind mit verstecktem Text geschrieben. Jeder Schritt führt dich durch die Informationen in dieser Reihe. Jeder folgende Schritt wird in Zelle A2, A3 und so weiter fortgesetzt, sofern nicht ausdrücklich anders angegeben. Zum Beispiel könnte der Anweisungstext für den nächsten Schritt sagen: "Weiter zur Zelle A6". Versteckter Text wird nicht gedruckt. Um diese Anweisungen aus einem Arbeitsblatt zu entfernen, löschen Sie einfach Spalte A.
A4: Diese Roadmap nutzt Positionen, um Meilensteine und Aktivitäten zu dokumentieren. Positionen können verwendet werden, um einem Meilenstein oder einer Aktivität Gewicht zu verleihen. Passen Sie die Werte einfach nach Ihrer Gewichtspräferenz an. Zum Beispiel könnte Meilenstein/Aktivität 3 mehr Gewicht haben als Meilenstein/Aktivität 2. Um dies im Diagramm anzuzeigen, setzen Sie einfach den Positionswert für Meilenstein/Aktivität 3 höher als für Meilenstein/Aktivität 2.
A5: Dies ist die letzte Anleitung in diesem Arbeitsblatt.

Sheet Meilensteine
C1: Meilensteine
A3: Table headings are in cells C2 through E2. Use Sort & Filter options to sort or find specific entries. Enter Milestones with dates and set a position for charting the milestone, in the table starting in cell C3. Column B has been hidden. The chart generated from this data using a scrollbar to view chuncks of the timeline. Column B helps determine which Milestones to chart when the scrollbar is incremented. Warning: Deleting or modifying column B contents may disrupt the integrity of the charting built into this workbook. | B3: No. | C3: Position | D3: Datum | E3: Meilenstein
A4: Enter the Position for charting the date and milestone in cell C1. Enter a positive number between 1 and 3 to chart the milestone above the timeline. Enter a negative number between 1 and 3 to chart the milestone below the timeline. Enter the Date and Milestone or activity in column D and E within the table. Repeat this pattern for each new row in the table at right. Sample data is provided in rows 3 through 26. Modify or delete sample content to create your own roadmap. Continue to cell A27 for the next instruction. | B4: =ROW($A1) -> 1 | C4: 1 | D4: =TODAY() -> 46029 | E4: Start
B5: =ROW($A3) -> 3 | C5: -2 | D5: =D4+10 -> 46039 | E5: Problemanalyse Aktivität 1
B6: =ROW($A4) -> 4 | C6: 1 | D6: =D5+20 -> 46059 | E6: Business Case entwickeln Aktivität 1 Aktivität 2
B7: =ROW($A5) -> 5 | C7: -1 | D7: =D6+30 -> 46089 | E7: Rezensionspräsentation
B8: =ROW($A6) -> 6 | C8: -0.5 | D8: =D7+40 -> 46129 | E8: Exec Kickoff Aktivität 1 Aktivität 2
B9: =ROW($A7) -> 7 | C9: 2 | D9: =D8+50 -> 46179 | E9: Führungsebene Aktivität 1 Aktivität 2 Aktivität 3
B10: =ROW($A8) -> 8 | C10: 0.5 | D10: =D9+60 -> 46239 | E10: Stakeholder-Beteiligung
B11: =ROW($A9) -> 9 | C11: -1 | D11: =D10+70 -> 46309 | E11: Ressourcenauswahl
B12: =ROW($A10) -> 10 | C12: 0.5 | D12: =D11+80 -> 46389 | E12: Teamzusammenstellung Aktivität 1
B13: =ROW($A11) -> 11 | C13: -2 | D13: =D12+90 -> 46479 | E13: Team-Kickoff Aktivität 1 Aktivität 2 Aktivität 3 Aktivität 4
B14: =ROW($A12) -> 12 | C14: 3 | D14: =D13+100 -> 46579 | E14: Start Datenerhebung
B15: =ROW($A13) -> 13 | C15: -1 | D15: =D14+90 -> 46669 | E15: Datenanalyse
B16: =ROW($A14) -> 14 | C16: 1 | D16: =D15+80 -> 46749 | E16: Konstruktion
B17: =ROW($A15) -> 15 | C17: 1 | D17: =D16+70 -> 46819 | E17: Proof of Concept
B18: =ROW($A16) -> 16 | C18: -3 | D18: =D17+60 -> 46879 | E18: Test & Analyse
B19: =ROW($A17) -> 17 | C19: -2 | D19: =D18+50 -> 46929 | E19: Neugestaltung
B20: =ROW($A18) -> 18 | C20: 2 | D20: =D19+40 -> 46969 | E20: Umgestaltung
B21: =ROW($A19) -> 19 | C21: -1 | D21: =D20+30 -> 46999 | E21: Test & Analyse
B22: =ROW($A20) -> 20 | C22: 1 | D22: =D21+20 -> 47019 | E22: Neugestaltung
B23: =ROW($A21) -> 21 | C23: -3 | D23: =D22+10 -> 47029 | E23: Umgestaltung
B24: =ROW($A22) -> 22 | C24: 2 | D24: =D23+20 -> 47049 | E24: Finaler Test
B25: =ROW($A23) -> 23 | C25: 1 | D25: =D24+30 -> 47079 | E25: Beta-Test
B26: =ROW($A24) -> 24 | C26: -3 | D26: =D25+40 -> 47119 | E26: Rezension
B27: =ROW($A25) -> 25 | C27: -2 | D27: =D26+50 -> 47169 | E27: Freigabe an das Marketing

Sheet Instrumententafel
A1: A chart displaying the milestones from Milestones worksheet is in this worksheet. Years are indicated in cells B2, C2, and D2 and have the style Heading 3 applied. 10 milestones are charted at a time. Use the scroll bar in cells B4 through D4 to navigate through the roadmap. Timeline years are in cells B3 through D3. There are no further instructions in this worksheet.
B3: ='Chart data'!B20 -> 2026 | C3: ='Chart data'!B21 | D3: ='Chart data'!B22 -> 2027

Sheet Chart data
A1: Data for creating the dynamic charting is in this worksheet. Do not delete this worksheet! Deleting this worksheet could compromise the dynamic capability of the workbook. | B1: Do not delete this worksheet!
A2: Title for the table is in cell B2. | B2: Dynamic Chart content
A3: Table headings are in cells B3 through D3. This table is auto updated based on the content entered in the Milestones worksheet. Warning: Modifying or deleting content in this table could compromise the dynamic update capability of the Roadmap chart in the Roadmap worksheet. Continue to cell A15 for the next instruction. | B3: Date | C3: Events | D3: Position
B4: =IFERROR(IF(LEN(Meilensteine!D4)=0,"",INDEX(RoadmapMilestones[],Meilensteine!$B4+$B$17,3)),"") -> 46029 | C4: =IFERROR(IF(LEN(Meilensteine!E4)=0,"",INDEX(RoadmapMilestones[],Meilensteine!$B4+$B$17,4)),"") -> Start | D4: =IFERROR(INDEX(RoadmapMilestones[],Meilensteine!$B4+$B$17,2),"") -> 1
B5: =IFERROR(IF(LEN(Meilensteine!D5)=0,"",INDEX(RoadmapMilestones[],Meilensteine!$B5+$B$17,3)),"") -> 46059 | C5: =IFERROR(IF(LEN(Meilensteine!E5)=0,"",INDEX(RoadmapMilestones[],Meilensteine!$B5+$B$17,4)),"") -> Business Case entwickeln Aktivität 1 Aktivität 2 | D5: =IFERROR(INDEX(RoadmapMilestones[],Meilensteine!$B5+$B$17,2),"") -> 1
B6: =IFERROR(IF(LEN(Meilensteine!D6)=0,"",INDEX(RoadmapMilestones[],Meilensteine!$B6+$B$17,3)),"") -> 46089 | C6: =IFERROR(IF(LEN(Meilensteine!E6)=0,"",INDEX(RoadmapMilestones[],Meilensteine!$B6+$B$17,4)),"") -> Rezensionspräsentation | D6: =IFERROR(INDEX(RoadmapMilestones[],Meilensteine!$B6+$B$17,2),"") -> -1
B7: =IFERROR(IF(LEN(Meilensteine!D7)=0,"",INDEX(RoadmapMilestones[],Meilensteine!$B7+$B$17,3)),"") -> 46129 | C7: =IFERROR(IF(LEN(Meilensteine!E7)=0,"",INDEX(RoadmapMilestones[],Meilensteine!$B7+$B$17,4)),"") -> Exec Kickoff Aktivität 1 Aktivität 2 | D7: =IFERROR(INDEX(RoadmapMilestones[],Meilensteine!$B7+$B$17,2),"") -> -0.5
B8: =IFERROR(IF(LEN(Meilensteine!D8)=0,"",INDEX(RoadmapMilestones[],Meilensteine!$B8+$B$17,3)),"") -> 46179 | C8: =IFERROR(IF(LEN(Meilensteine!E8)=0,"",INDEX(RoadmapMilestones[],Meilensteine!$B8+$B$17,4)),"") -> Führungsebene Aktivität 1 Aktivität 2 Aktivität 3 | D8: =IFERROR(INDEX(RoadmapMilestones[],Meilensteine!$B8+$B$17,2),"") -> 2
B9: =IFERROR(IF(LEN(Meilensteine!D9)=0,"",INDEX(RoadmapMilestones[],Meilensteine!$B9+$B$17,3)),"") -> 46239 | C9: =IFERROR(IF(LEN(Meilensteine!E9)=0,"",INDEX(RoadmapMilestones[],Meilensteine!$B9+$B$17,4)),"") -> Stakeholder-Beteiligung | D9: =IFERROR(INDEX(RoadmapMilestones[],Meilensteine!$B9+$B$17,2),"") -> 0.5
B10: =IFERROR(IF(LEN(Meilensteine!D10)=0,"",INDEX(RoadmapMilestones[],Meilensteine!$B10+$B$17,3)),"") -> 46309 | C10: =IFERROR(IF(LEN(Meilensteine!E10)=0,"",INDEX(RoadmapMilestones[],Meilensteine!$B10+$B$17,4)),"") -> Ressourcenauswahl | D10: =IFERROR(INDEX(RoadmapMilestones[],Meilensteine!$B10+$B$17,2),"") -> -1
B11: =IFERROR(IF(LEN(Meilensteine!D11)=0,"",INDEX(RoadmapMilestones[],Meilensteine!$B11+$B$17,3)),"") -> 46389 | C11: =IFERROR(IF(LEN(Meilensteine!E11)=0,"",INDEX(RoadmapMilestones[],Meilensteine!$B11+$B$17,4)),"") -> Teamzusammenstellung Aktivität 1 | D11: =IFERROR(INDEX(RoadmapMilestones[],Meilensteine!$B11+$B$17,2),"") -> 0.5
B12: =IFERROR(IF(LEN(Meilensteine!D12)=0,"",INDEX(RoadmapMilestones[],Meilensteine!$B12+$B$17,3)),"") -> 46479 | C12: =IFERROR(IF(LEN(Meilensteine!E12)=0,"",INDEX(RoadmapMilestones[],Meilensteine!$B12+$B$17,4)),"") -> Team-Kickoff Aktivität 1 Aktivität 2 Aktivität 3 Aktivität 4 | D12: =IFERROR(INDEX(RoadmapMilestones[],Meilensteine!$B12+$B$17,2),"") -> -2
B13: =IFERROR(IF(LEN(Meilensteine!D13)=0,"",INDEX(RoadmapMilestones[],Meilensteine!$B13+$B$17,3)),"") -> 46579 | C13: =IFERROR(IF(LEN(Meilensteine!E13)=0,"",INDEX(RoadmapMilestones[],Meilensteine!$B13+$B$17,4)),"") -> Start Datenerhebung | D13: =IFERROR(INDEX(RoadmapMilestones[],Meilensteine!$B13+$B$17,2),"") -> 3
A15: The ability to scroll through the roadmap is done with the help of an increment value. The title for this ability is in cell B15. A table with a header and a single value is in cells B16 and B17. Continue to cell A19 for the next instruction. | B15: Scrolling capability
B16: Row Increment
B17: 0
A19: The Roadmap chart plots the years for the timeline. To do this, the years must be captured from the Milestone List. The title for this section is "Year" in cell B19. The year values are auto generated in cells C20 through C22. Warning: Deleting or modifying these years could change the charting accuracy of the Roadmap chart. Continue to cell A24 for the next instruction. | B19: Year
B20: =IFERROR(YEAR(B4),"") -> 2026 | C20: <-- year for the starting position of the roadmap
B21: =IFERROR(IF(YEAR($B$9)=$B$20,"",YEAR($B$9)),"") | C21: <-- year for the middle period of the roadmap, note, this may be blank if it's the same year as the starting position of the roadmap
B22: =IFERROR(IF(YEAR($B$13)=$B$20,"",YEAR($B$13)),"") -> 2027 | C22: <-- year for the last position of the roadmap, note, this may be blank if it's the same year as the starting position of the roadmap
A24: Donut markers in the Roadmap chart contain dates from the dynamic chart content in this worksheet. The dates are First date in cell C24, Middle date in cell C25, and last date in cell C26. There are no further instructions in this worksheet. | B24: First date | C24: =B4 -> 46029
B25: Middle date | C25: =B9 -> 46239
B26: Last date | C26: =B13 -> 46579
